BEGIN:VCALENDAR
VERSION:2.0
PRODID:-//Forest County Historical Society - ECPv5.10.0//NONSGML v1.0//EN
CALSCALE:GREGORIAN
METHOD:PUBLISH
X-WR-CALNAME:Forest County Historical Society
X-ORIGINAL-URL:https://forestcountypahistory.org
X-WR-CALDESC:Events for Forest County Historical Society
BEGIN:VTIMEZONE
TZID:America/New_York
BEGIN:DAYLIGHT
TZOFFSETFROM:-0500
TZOFFSETTO:-0400
TZNAME:EDT
DTSTART:20220313T070000
END:DAYLIGHT
BEGIN:STANDARD
TZOFFSETFROM:-0400
TZOFFSETTO:-0500
TZNAME:EST
DTSTART:20221106T060000
END:STANDARD
END:VTIMEZONE
BEGIN:VEVENT
DTSTART;TZID=America/New_York:20220512T083000
DTEND;TZID=America/New_York:20220512T103000
DTSTAMP:20260420T030053
CREATED:20220504T182851Z
LAST-MODIFIED:20220523T131615Z
UID:1354-1652344200-1652351400@forestcountypahistory.org
SUMMARY:Getting to Know your Community Walking Tour
DESCRIPTION:On Thursday May 12\, the Forest Area School District is having a Getting to know your Community Walking tour.  We will host three groups of students: \n8:30-9:00am 8th grade History Class \n9:15- 9:45am 7th Grade students \n10:00 – 10:30am  2nd grade class  \nWe will have a number of adults directing the children and their teachers through the museum.\nWe would like to welcome student from West Forest School District.
URL:https://forestcountypahistory.org/event/1354/
LOCATION:Forest County Historical Society\, 206 Elm Street\, Tionesta\, PA\, 16353\, United States
CATEGORIES:Museum Events
ATTACH;FMTTYPE=image/jpeg:https://forestcountypahistory.org/wp-content/uploads/2022/05/FCHS-2022-Event-Graphic-02.jpg
END:VEVENT
END:VCALENDAR