BEGIN:VCALENDAR
VERSION:2.0
PRODID:-//Forest County Historical Society - ECPv5.10.0//NONSGML v1.0//EN
CALSCALE:GREGORIAN
METHOD:PUBLISH
X-WR-CALNAME:Forest County Historical Society
X-ORIGINAL-URL:https://forestcountypahistory.org
X-WR-CALDESC:Events for Forest County Historical Society
BEGIN:VTIMEZONE
TZID:America/New_York
BEGIN:DAYLIGHT
TZOFFSETFROM:-0500
TZOFFSETTO:-0400
TZNAME:EDT
DTSTART:20210314T070000
END:DAYLIGHT
BEGIN:STANDARD
TZOFFSETFROM:-0400
TZOFFSETTO:-0500
TZNAME:EST
DTSTART:20211107T060000
END:STANDARD
END:VTIMEZONE
BEGIN:VEVENT
DTSTART;TZID=America/New_York:20211021T180000
DTEND;TZID=America/New_York:20211021T200000
DTSTAMP:20260422T082501
CREATED:20210915T075143Z
LAST-MODIFIED:20210915T075745Z
UID:1268-1634839200-1634846400@forestcountypahistory.org
SUMMARY:2021 FCHS Fall Dinner
DESCRIPTION:The FCHS Fall Dinner will be held Thursday\, October 21st\, at St. Anthony’s Church in Tionesta. Doors will open at 5:30 and dinner will be served at 6:00. \nRyan (Burke) Beach will be the guest speaker\, assisted by Rodney Daum. They will have a display of Civil War small arms\, ammunition\, and uniform parts and talk about the weapons that were issued to each soldier. He will also discuss the range of rifled muskets compared to that of smooth bore muskets\, the various types of bullets used\, and different loading\nmethods. \nMenu: Stuffed pork chops\, mashed potatoes\, green beans\, tossed salad\, rolls\, coffee\, tea or punch\nand homemade pie. \nNumber of Dinners: ____ x $15.00 each $__________ Dinner Total\n$__________ Donation \nMake Checks payable to: FCHS $__________ Total enclosed \nMail payment with this form to: Forest County Historical Society\, PO Box 546\, Tionesta\, PA 16353.
URL:https://forestcountypahistory.org/event/2021-fchs-fall-dinner/
LOCATION:St. Anthony’s Social Hall\, 112 Bridge St\, Tionesta\, PA\, 16353\, United States
CATEGORIES:Fall Dinner
ATTACH;FMTTYPE=image/jpeg:https://forestcountypahistory.org/wp-content/uploads/2021/09/GBS_FCHS-Fall-2021-Dinner-01.jpg
END:VEVENT
END:VCALENDAR