BEGIN:VCALENDAR
VERSION:2.0
PRODID:-//Forest County Historical Society - ECPv5.10.0//NONSGML v1.0//EN
CALSCALE:GREGORIAN
METHOD:PUBLISH
X-WR-CALNAME:Forest County Historical Society
X-ORIGINAL-URL:https://forestcountypahistory.org
X-WR-CALDESC:Events for Forest County Historical Society
BEGIN:VTIMEZONE
TZID:America/New_York
BEGIN:DAYLIGHT
TZOFFSETFROM:-0500
TZOFFSETTO:-0400
TZNAME:EDT
DTSTART:20220313T070000
END:DAYLIGHT
BEGIN:STANDARD
TZOFFSETFROM:-0400
TZOFFSETTO:-0500
TZNAME:EST
DTSTART:20221106T060000
END:STANDARD
END:VTIMEZONE
BEGIN:VEVENT
DTSTART;TZID=America/New_York:20220427T173000
DTEND;TZID=America/New_York:20220427T200000
DTSTAMP:20260422T051305
CREATED:20220321T131848Z
LAST-MODIFIED:20220321T143356Z
UID:1332-1651080600-1651089600@forestcountypahistory.org
SUMMARY:Forest County Historical Society Spring Dinner
DESCRIPTION:Our Spring Dinner will be held at the Methodist Church in Marienville on Wednesday\, April 27.  The speakers will tell us about Leo Nuhfer.  Leo attended East Forest School\, played basketball while at East Forest and played the saxophone in the band. He also hunted with his dad. He then went to Penn State Behrend Center\, and DeVry Institute of Technology and earned an electronics degree. He also served in the Air Force for 4 years.  When Leo died in 2020 he left 10% of his estate to the Forest County Historical Society.  This is probably the largest gift that the Society has ever received.  Leo’s brother Ray and wife Debra and Leo’s Sister Rose Whitlinger will speak at our Spring Dinner and tell us more about Leo and their father Clarence Nuhfer. Clarence once served as the Treasurer of the Historical Society.
URL:https://forestcountypahistory.org/event/forest-county-historical-society-spring-dinner/
LOCATION:Methodist Church\, Marienville\, United States
CATEGORIES:Spring Dinner
ATTACH;FMTTYPE=image/jpeg:https://forestcountypahistory.org/wp-content/uploads/2022/03/GBS_FCHS-2022-Spring-Dinner-01-copy.jpg
END:VEVENT
END:VCALENDAR