BEGIN:VCALENDAR
VERSION:2.0
PRODID:-//Forest County Historical Society - ECPv5.10.0//NONSGML v1.0//EN
CALSCALE:GREGORIAN
METHOD:PUBLISH
X-WR-CALNAME:Forest County Historical Society
X-ORIGINAL-URL:https://forestcountypahistory.org
X-WR-CALDESC:Events for Forest County Historical Society
BEGIN:VTIMEZONE
TZID:America/New_York
BEGIN:DAYLIGHT
TZOFFSETFROM:-0500
TZOFFSETTO:-0400
TZNAME:EDT
DTSTART:20250309T070000
END:DAYLIGHT
BEGIN:STANDARD
TZOFFSETFROM:-0400
TZOFFSETTO:-0500
TZNAME:EST
DTSTART:20251102T060000
END:STANDARD
END:VTIMEZONE
BEGIN:VEVENT
DTSTART;TZID=America/New_York:20250624T190000
DTEND;TZID=America/New_York:20250624T200000
DTSTAMP:20260421T085951
CREATED:20250620T134248Z
LAST-MODIFIED:20250620T134248Z
UID:1797-1750791600-1750795200@forestcountypahistory.org
SUMMARY:Tuesday Talk
DESCRIPTION:The Forest County Historical Society is excited to welcome Terry Janosik for a presentation on Devastation and Renewal. He will be discussing the destruction of forests and conservation efforts to restore them. Speakers will talk from 7:00-7:30 and then stay around until 8:00 pm for any questions from the audience. This event is free for all museum members and costs $5.00 for non-members and includes a tour of the museum. We hope we have an interesting line-up for you this summer and you will come and join us.
URL:https://forestcountypahistory.org/event/tuesday-talk/
LOCATION:Forest County Historical Society\, 206 Elm Street\, Tionesta\, PA\, 16353\, United States
CATEGORIES:Tuesday Talks
END:VEVENT
END:VCALENDAR